BEGIN:VCALENDAR
VERSION:2.0
METHOD:PUBLISH
PRODID:-//Accessible Web Design//My Calendar//http://www.joedolson.com//v//EN';
BEGIN:VEVENT
UID:324-12
LOCATION:Bo's Heavenly Clubhouse N7156 Plaza Dr  Beaver Dam WI
SUMMARY:Children's Grief Support Group (ages 6-18)
DTSTAMP:20260817T171500
ORGANIZER;CN=Dan Schultz:MAILTO:pastordanschultz@gmail.com
DTSTART:20260817T171500
DTEND:20260817T181500
CATEGORIES:General, Support Groups
URL;VALUE=URI:https://namifonddulac.org/mc-events/childrens-grief-support-group-ages-6-18-2/?mc_id=324
DESCRIPTION:This children's grief support group is provided for children ages 6-18 who have lost any important person in their life. This support group is offered through Bo's Heavenly Clubhouse and supported by NAMI Fond du Lac County. This group is offered on the 3rd Monday of every month at 5:15pm Held at Bo’s Heavenly Clubhouse:&hellip;
END:VEVENT
END:VCALENDAR