BEGIN:VCALENDAR
VERSION:2.0
METHOD:PUBLISH
PRODID:-//Accessible Web Design//My Calendar//http://www.joedolson.com//v//EN';
BEGIN:VEVENT
UID:355-13
LOCATION:Drop-In Center 86 S. Macy Street  Fond du Lac WI 54935
SUMMARY:Survivors of Suicide Loss Support Group
DTSTAMP:20260408T180000
ORGANIZER;CN=Dan Schultz:MAILTO:pastordanschultz@gmail.com
DTSTART:20260408T180000
DTEND:20260408T193000
CATEGORIES:General, Support Groups
URL;VALUE=URI:https://namifonddulac.org/mc-events/survivors-of-suicide-loss-support-group/?mc_id=355
DESCRIPTION:Survivors of Suicide Loss Support Group (S.O.S.L.S.) Have you recently lost a loved one to suicide? Your feelings of grief, sadness, shock, isolation, anger and guilt may seem overwhelming. You may wonder if you will ever recover. These are normal responses. There is help from others who, like you, have experienced this tragedy. They want&hellip;
END:VEVENT
END:VCALENDAR