BEGIN:VCALENDAR
VERSION:2.0
METHOD:PUBLISH
PRODID:-//Accessible Web Design//My Calendar//http://www.joedolson.com//v//EN';
BEGIN:VEVENT
UID:396-21
LOCATION:Fond du Lac Public Library 32 Sheboygan St.  Fond du Lac WI 54935
SUMMARY:April Togetherness Event - Art Therapy Journaling Class
DTSTAMP:20260426T130000
ORGANIZER;CN=Kim Miller:MAILTO:kimmiller@namifonddulac.org
DTSTART:20260426T130000
DTEND:20260426T150000
CATEGORIES:General, Togetherness Events
URL;VALUE=URI:https://namifonddulac.org/mc-events/april-togetherness-event-art-therapy-journaling-class/?mc_id=396
DESCRIPTION:April Togetherness Event: Art Therapy Journaling Class Join us this April for a calming and creative Art Therapy Journaling Class—a space to slow down, express yourself, and connect with others in a supportive environment. No artistic experience needed—just come as you are! This guided session will help you explore your thoughts and emotions through creativity,&hellip;
END:VEVENT
END:VCALENDAR