BEGIN:VCALENDAR
VERSION:2.0
METHOD:PUBLISH
PRODID:-//Accessible Web Design//My Calendar//http://www.joedolson.com//v//EN';
BEGIN:VEVENT
UID:397-22
LOCATION:Fond du Lac Public Library 32 Sheboygan St.  Fond du Lac WI 54935
SUMMARY:Mental Health Awareness Month Presentation - What Do You Mean My Family's Not Normal?
DTSTAMP:20260512T180000
ORGANIZER;CN=Kim Miller:MAILTO:kimmiller@namifonddulac.org
DTSTART:20260512T180000
DTEND:20260512T200000
CATEGORIES:General
URL;VALUE=URI:https://namifonddulac.org/mc-events/mental-health-awareness-month-presentation-what-do-you-mean-my-familys-not-normal/?mc_id=397
DESCRIPTION: Mental Health Awareness Month Event  Join us this May for a powerful and deeply moving presentation: “What Do You Mean My Family’s Not Normal?” This presentation is an invitation into the quiet, sacred space of a family’s heart following the unimaginable loss of a son to suicide. By blending raw, lived experience with professional insight,&hellip;
END:VEVENT
END:VCALENDAR