BEGIN:VCALENDAR
VERSION:2.0
METHOD:PUBLISH
PRODID:-//Accessible Web Design//My Calendar//http://www.joedolson.com//v//EN';
BEGIN:VEVENT
UID:296-15
LOCATION:
SUMMARY:Mental Health Month Community Presentation
DTSTAMP:20250529T180000
ORGANIZER;CN=Dan Schultz:MAILTO:pastordanschultz@gmail.com
DTSTART:20250529T180000
DTEND:20250529T200000
CATEGORIES:General
URL;VALUE=URI:https://namifonddulac.org/mc-events/mental-health-month-community-presentation/?mc_id=296
DESCRIPTION:During this presentation, members of the Fond du Lac Police Department's Co-Response Team will provide updates on year 3 of the Team's collaborative efforts in responding to individuals in the community who are experiencing crisis or are in need of mental health resources. Additionally, members of the Police Department's Peer Support Team will discuss what&hellip;
END:VEVENT
END:VCALENDAR