BEGIN:VCALENDAR
VERSION:2.0
METHOD:PUBLISH
PRODID:-//Accessible Web Design//My Calendar//http://www.joedolson.com//v//EN';
BEGIN:VEVENT
UID:319-20
LOCATION:Brothertown Indian Nation Community Center 311 Winnebago Drive  Fond du Lac WI 54935
SUMMARY:2025 Step-Up Finale
DTSTAMP:20251005T120000
ORGANIZER;CN=Dan Schultz:MAILTO:pastordanschultz@gmail.com
DTSTART:20251005T120000
DTEND:20251005T160000
CATEGORIES:General
URL;VALUE=URI:https://namifonddulac.org/mc-events/2025-step-up-finale/?mc_id=319
DESCRIPTION:12:00-1:00 — Check-In 1:00-4:00 — Games
END:VEVENT
END:VCALENDAR