BEGIN:VCALENDAR
VERSION:2.0
METHOD:PUBLISH
PRODID:-//Accessible Web Design//My Calendar//http://www.joedolson.com//v//EN';
BEGIN:VEVENT
UID:398-23
LOCATION:LaClare Creamery W2994 County HH  Malone WI 53049
SUMMARY:May Togetherness Event - Goat Yoga at LaClare Creamery
DTSTAMP:20260530T103000
ORGANIZER;CN=Kim Miller:MAILTO:kimmiller@namifonddulac.org
DTSTART:20260530T103000
DTEND:20260530T113000
CATEGORIES:General, Togetherness Events
URL;VALUE=URI:https://namifonddulac.org/mc-events/may-togetherness-event-goat-yoga-at-laclare-creamery/?mc_id=398
DESCRIPTION:🐐🧘‍♀️ May Togetherness Event: Self-Care Saturday Goat Yoga! 🧘‍♂️🐐 Join us for a one-of-a-kind experience at LaClare Creamery as we combine relaxation, laughter, and adorable goats! Our Goat Yoga Togetherness Event is all about connection—connecting with yourself, with others, and yes… with some very friendly goats 🐐💚 ✨ No yoga experience needed✨ All are welcome✨&hellip;
END:VEVENT
END:VCALENDAR